Package: interacCircos Version: 1.17.0 Command: rm -rf interacCircos.buildbin-libdir && mkdir interacCircos.buildbin-libdir && /Users/biocbuild/BBS/utils/build-universal.sh interacCircos_1.17.0.tar.gz /Library/Frameworks/R.framework/Resources/bin/R interacCircos.buildbin-libdir StartedAt: 2025-02-10 00:58:48 -0500 (Mon, 10 Feb 2025) EndedAt: 2025-02-10 00:58:56 -0500 (Mon, 10 Feb 2025) EllapsedTime: 8.2 seconds RetCode: 0 Status: OK PackageFile: interacCircos_1.17.0.tgz PackageFileSize: 846.3 KiB