Package: interacCircos Version: 1.17.0 Command: /Library/Frameworks/R.framework/Resources/bin/R CMD INSTALL interacCircos StartedAt: 2025-02-09 15:24:00 -0500 (Sun, 09 Feb 2025) EndedAt: 2025-02-09 15:24:06 -0500 (Sun, 09 Feb 2025) EllapsedTime: 6.0 seconds RetCode: 0 Status: OK