Package: interactiveDisplayBase Version: 1.45.0 Command: /Library/Frameworks/R.framework/Resources/bin/R CMD INSTALL interactiveDisplayBase StartedAt: 2025-02-12 15:29:47 -0500 (Wed, 12 Feb 2025) EndedAt: 2025-02-12 15:29:49 -0500 (Wed, 12 Feb 2025) EllapsedTime: 2.0 seconds RetCode: 0 Status: OK