Package: interactiveDisplayBase Version: 1.45.0 Command: /home/biocbuild/bbs-3.21-bioc/R/bin/R CMD build --keep-empty-dirs --no-resave-data interactiveDisplayBase StartedAt: 2025-02-12 17:43:10 -0500 (Wed, 12 Feb 2025) EndedAt: 2025-02-12 17:43:15 -0500 (Wed, 12 Feb 2025) EllapsedTime: 5.0 seconds RetCode: 0 Status: OK PackageFile: interactiveDisplayBase_1.45.0.tar.gz PackageFileSize: 7.568 KiB