Package: ipdDb Version: 1.25.0 Command: rm -rf ipdDb.buildbin-libdir && mkdir ipdDb.buildbin-libdir && /Users/biocbuild/BBS/utils/build-universal.sh ipdDb_1.25.0.tar.gz /Library/Frameworks/R.framework/Resources/bin/R ipdDb.buildbin-libdir StartedAt: 2025-02-09 22:18:24 -0500 (Sun, 09 Feb 2025) EndedAt: 2025-02-09 22:18:32 -0500 (Sun, 09 Feb 2025) EllapsedTime: 8.1 seconds RetCode: 0 Status: OK PackageFile: ipdDb_1.25.0.tgz PackageFileSize: 408.2 KiB