Package: ipdDb Version: 1.25.0 Command: /Library/Frameworks/R.framework/Resources/bin/R CMD check --install=check:ipdDb.install-out.txt --library=/Library/Frameworks/R.framework/Resources/library --no-vignettes --timings ipdDb_1.25.0.tar.gz StartedAt: 2025-02-09 19:46:06 -0500 (Sun, 09 Feb 2025) EndedAt: 2025-02-09 19:47:04 -0500 (Sun, 09 Feb 2025) EllapsedTime: 57.7 seconds RetCode: 0 Status: OK CheckDir: ipdDb.Rcheck Warnings: 0