Package: ipdDb Version: 1.25.0 Command: /Library/Frameworks/R.framework/Resources/bin/R CMD INSTALL ipdDb StartedAt: 2025-02-09 15:11:59 -0500 (Sun, 09 Feb 2025) EndedAt: 2025-02-09 15:12:06 -0500 (Sun, 09 Feb 2025) EllapsedTime: 6.4 seconds RetCode: 0 Status: OK