Package: ipdDb Version: 1.25.0 Command: /home/biocbuild/R/R/bin/R CMD build --keep-empty-dirs --no-resave-data ipdDb StartedAt: 2025-01-28 23:47:45 -0000 (Tue, 28 Jan 2025) EndedAt: 2025-01-28 23:48:09 -0000 (Tue, 28 Jan 2025) EllapsedTime: 24.0 seconds RetCode: 0 Status: OK PackageFile: ipdDb_1.25.0.tar.gz PackageFileSize: 21.67 KiB