Package: ipdDb Version: 1.25.0 Command: /home/biocbuild/R/R/bin/R CMD INSTALL ipdDb StartedAt: 2025-01-29 19:58:06 -0000 (Wed, 29 Jan 2025) EndedAt: 2025-01-29 19:58:28 -0000 (Wed, 29 Jan 2025) EllapsedTime: 21.4 seconds RetCode: 0 Status: OK