Package: ipdDb Version: 1.25.0 Command: /Library/Frameworks/R.framework/Resources/bin/R CMD build --keep-empty-dirs --no-resave-data ipdDb StartedAt: 2025-02-09 17:11:52 -0500 (Sun, 09 Feb 2025) EndedAt: 2025-02-09 17:12:13 -0500 (Sun, 09 Feb 2025) EllapsedTime: 20.6 seconds RetCode: 0 Status: OK PackageFile: ipdDb_1.25.0.tar.gz PackageFileSize: 21.02 KiB