Package: ipdDb Version: 1.25.0 Command: /Library/Frameworks/R.framework/Resources/bin/R CMD check --install=check:ipdDb.install-out.txt --library=/Library/Frameworks/R.framework/Resources/library --no-vignettes --timings ipdDb_1.25.0.tar.gz StartedAt: 2025-02-09 21:26:27 -0500 (Sun, 09 Feb 2025) EndedAt: 2025-02-09 21:29:14 -0500 (Sun, 09 Feb 2025) EllapsedTime: 167.3 seconds RetCode: 0 Status: OK CheckDir: ipdDb.Rcheck Warnings: 0