Package: ipdDb Version: 1.25.0 Command: E:\biocbuild\bbs-3.21-bioc\R\bin\R.exe CMD INSTALL ipdDb StartedAt: 2025-02-09 15:52:31 -0500 (Sun, 09 Feb 2025) EndedAt: 2025-02-09 15:52:59 -0500 (Sun, 09 Feb 2025) EllapsedTime: 28.4 seconds RetCode: 0 Status: OK