Package: isomiRs Version: 1.35.0 Command: /home/biocbuild/R/R/bin/R CMD build --keep-empty-dirs --no-resave-data isomiRs StartedAt: 2025-01-28 23:50:33 -0000 (Tue, 28 Jan 2025) EndedAt: 2025-01-28 23:52:40 -0000 (Tue, 28 Jan 2025) EllapsedTime: 127.0 seconds RetCode: 0 Status: OK PackageFile: isomiRs_1.35.0.tar.gz PackageFileSize: 4.146 MiB