Package: isomiRs Version: 1.35.0 Command: rm -rf isomiRs.buildbin-libdir && mkdir isomiRs.buildbin-libdir && /Users/biocbuild/BBS/utils/build-universal.sh isomiRs_1.35.0.tar.gz /Library/Frameworks/R.framework/Resources/bin/R isomiRs.buildbin-libdir StartedAt: 2025-02-04 00:40:01 -0500 (Tue, 04 Feb 2025) EndedAt: 2025-02-04 00:41:06 -0500 (Tue, 04 Feb 2025) EllapsedTime: 65.8 seconds RetCode: 0 Status: OK PackageFile: isomiRs_1.35.0.tgz PackageFileSize: 2.486 MiB