Package: isomiRs Version: 1.35.0 Command: /Library/Frameworks/R.framework/Resources/bin/R CMD check --install=check:isomiRs.install-out.txt --library=/Library/Frameworks/R.framework/Resources/library --no-vignettes --timings isomiRs_1.35.0.tar.gz StartedAt: 2025-02-03 21:17:43 -0500 (Mon, 03 Feb 2025) EndedAt: 2025-02-03 21:22:47 -0500 (Mon, 03 Feb 2025) EllapsedTime: 303.9 seconds RetCode: 0 Status: OK CheckDir: isomiRs.Rcheck Warnings: 0