Package: isomiRs Version: 1.35.0 Command: /Library/Frameworks/R.framework/Resources/bin/R CMD INSTALL isomiRs StartedAt: 2025-02-09 15:20:28 -0500 (Sun, 09 Feb 2025) EndedAt: 2025-02-09 15:21:30 -0500 (Sun, 09 Feb 2025) EllapsedTime: 62.0 seconds RetCode: 0 Status: OK