Package: isomiRs Version: 1.35.0 Command: /home/biocbuild/bbs-3.21-bioc/R/bin/R CMD check --install=check:isomiRs.install-out.txt --library=/home/biocbuild/bbs-3.21-bioc/R/site-library --timings isomiRs_1.35.0.tar.gz StartedAt: 2025-02-03 23:38:53 -0500 (Mon, 03 Feb 2025) EndedAt: 2025-02-03 23:44:13 -0500 (Mon, 03 Feb 2025) EllapsedTime: 320.5 seconds RetCode: 0 Status: OK CheckDir: isomiRs.Rcheck Warnings: 0