Package: isomiRs Version: 1.35.0 Command: /home/biocbuild/bbs-3.21-bioc/R/bin/R CMD INSTALL isomiRs StartedAt: 2025-02-09 15:33:17 -0500 (Sun, 09 Feb 2025) EndedAt: 2025-02-09 15:34:03 -0500 (Sun, 09 Feb 2025) EllapsedTime: 45.3 seconds RetCode: 0 Status: OK