Package: isomiRs Version: 1.35.0 Command: chmod a+r isomiRs -R && E:\biocbuild\bbs-3.21-bioc\R\bin\R.exe CMD build --keep-empty-dirs --no-resave-data isomiRs StartedAt: 2025-02-03 19:42:20 -0500 (Mon, 03 Feb 2025) EndedAt: 2025-02-03 19:44:58 -0500 (Mon, 03 Feb 2025) EllapsedTime: 158.3 seconds RetCode: 0 Status: OK PackageFile: isomiRs_1.35.0.tar.gz PackageFileSize: 4.074 MiB