Package: isomiRs Version: 1.35.0 Command: E:\biocbuild\bbs-3.21-bioc\R\bin\R.exe CMD check --no-multiarch --install=check:isomiRs.install-out.txt --library=E:\biocbuild\bbs-3.21-bioc\R\library --no-vignettes --timings isomiRs_1.35.0.tar.gz StartedAt: 2025-02-04 02:45:37 -0500 (Tue, 04 Feb 2025) EndedAt: 2025-02-04 02:50:52 -0500 (Tue, 04 Feb 2025) EllapsedTime: 314.9 seconds RetCode: 0 Status: OK CheckDir: isomiRs.Rcheck Warnings: 0