Package: iterativeBMA Version: 1.65.0 Command: /home/biocbuild/R/R/bin/R CMD build --keep-empty-dirs --no-resave-data iterativeBMA StartedAt: 2025-01-28 23:50:36 -0000 (Tue, 28 Jan 2025) EndedAt: 2025-01-28 23:50:56 -0000 (Tue, 28 Jan 2025) EllapsedTime: 20.0 seconds RetCode: 0 Status: OK PackageFile: iterativeBMA_1.65.0.tar.gz PackageFileSize: 159.1 KiB