Package: iterativeBMA Version: 1.65.0 Command: /Library/Frameworks/R.framework/Resources/bin/R CMD build --keep-empty-dirs --no-resave-data iterativeBMA StartedAt: 2025-02-04 17:09:14 -0500 (Tue, 04 Feb 2025) EndedAt: 2025-02-04 17:09:35 -0500 (Tue, 04 Feb 2025) EllapsedTime: 20.6 seconds RetCode: 0 Status: OK PackageFile: iterativeBMA_1.65.0.tar.gz PackageFileSize: 159.1 KiB