Package: iterativeBMA Version: 1.65.0 Command: /Library/Frameworks/R.framework/Resources/bin/R CMD check --install=check:iterativeBMA.install-out.txt --library=/Library/Frameworks/R.framework/Resources/library --no-vignettes --timings iterativeBMA_1.65.0.tar.gz StartedAt: 2025-02-04 21:15:30 -0500 (Tue, 04 Feb 2025) EndedAt: 2025-02-04 21:16:25 -0500 (Tue, 04 Feb 2025) EllapsedTime: 54.9 seconds RetCode: 0 Status: OK CheckDir: iterativeBMA.Rcheck Warnings: 0