Package: ivygapSE Version: 1.29.0 Command: /Library/Frameworks/R.framework/Resources/bin/R CMD build --keep-empty-dirs --no-resave-data ivygapSE StartedAt: 2025-02-09 17:13:32 -0500 (Sun, 09 Feb 2025) EndedAt: 2025-02-09 17:15:48 -0500 (Sun, 09 Feb 2025) EllapsedTime: 136.0 seconds RetCode: 0 Status: OK PackageFile: ivygapSE_1.29.0.tar.gz PackageFileSize: 15.35 MiB