Package: karyoploteR Version: 1.33.0 Command: rm -rf karyoploteR.buildbin-libdir && mkdir karyoploteR.buildbin-libdir && /Users/biocbuild/BBS/utils/build-universal.sh karyoploteR_1.33.0.tar.gz /Library/Frameworks/R.framework/Resources/bin/R karyoploteR.buildbin-libdir StartedAt: 2025-01-21 22:30:21 -0500 (Tue, 21 Jan 2025) EndedAt: 2025-01-21 22:30:46 -0500 (Tue, 21 Jan 2025) EllapsedTime: 24.5 seconds RetCode: 0 Status: OK PackageFile: karyoploteR_1.33.0.tgz PackageFileSize: 2.472 MiB