Package: karyoploteR Version: 1.33.0 Command: /Library/Frameworks/R.framework/Resources/bin/R CMD INSTALL karyoploteR StartedAt: 2025-02-03 15:51:03 -0500 (Mon, 03 Feb 2025) EndedAt: 2025-02-03 15:51:24 -0500 (Mon, 03 Feb 2025) EllapsedTime: 21.1 seconds RetCode: 0 Status: OK