Package: karyoploteR Version: 1.33.0 Command: /Library/Frameworks/R.framework/Resources/bin/R CMD check --install=check:karyoploteR.install-out.txt --library=/Library/Frameworks/R.framework/Resources/library --no-vignettes --timings karyoploteR_1.33.0.tar.gz StartedAt: 2025-01-21 21:31:20 -0500 (Tue, 21 Jan 2025) EndedAt: 2025-01-21 21:40:47 -0500 (Tue, 21 Jan 2025) EllapsedTime: 567.4 seconds RetCode: 0 Status: OK CheckDir: karyoploteR.Rcheck Warnings: 0