Package: karyoploteR Version: 1.33.0 Command: /Library/Frameworks/R.framework/Resources/bin/R CMD INSTALL karyoploteR StartedAt: 2025-02-03 15:31:20 -0500 (Mon, 03 Feb 2025) EndedAt: 2025-02-03 15:32:28 -0500 (Mon, 03 Feb 2025) EllapsedTime: 67.8 seconds RetCode: 0 Status: OK