Package: karyoploteR Version: 1.33.0 Command: /home/biocbuild/bbs-3.21-bioc/R/bin/R CMD build --keep-empty-dirs --no-resave-data karyoploteR StartedAt: 2025-02-09 17:49:31 -0500 (Sun, 09 Feb 2025) EndedAt: 2025-02-09 17:50:53 -0500 (Sun, 09 Feb 2025) EllapsedTime: 82.1 seconds RetCode: 1 Status: ERROR PackageFile: None PackageFileSize: NA