Package: karyoploteR Version: 1.33.0 Command: /home/biocbuild/bbs-3.21-bioc/R/bin/R CMD check --install=check:karyoploteR.install-out.txt --library=/home/biocbuild/bbs-3.21-bioc/R/site-library --timings karyoploteR_1.33.0.tar.gz StartedAt: 2025-01-21 23:25:32 -0500 (Tue, 21 Jan 2025) EndedAt: 2025-01-21 23:33:51 -0500 (Tue, 21 Jan 2025) EllapsedTime: 498.8 seconds RetCode: 0 Status: OK CheckDir: karyoploteR.Rcheck Warnings: 0