Package: karyoploteR Version: 1.33.0 Command: chmod a+r karyoploteR -R && E:\biocbuild\bbs-3.21-bioc\R\bin\R.exe CMD build --keep-empty-dirs --no-resave-data karyoploteR StartedAt: 2025-02-03 19:43:06 -0500 (Mon, 03 Feb 2025) EndedAt: 2025-02-03 19:44:56 -0500 (Mon, 03 Feb 2025) EllapsedTime: 110.3 seconds RetCode: 1 Status: ERROR PackageFile: None PackageFileSize: NA