Package: karyoploteR Version: 1.33.0 Command: E:\biocbuild\bbs-3.21-bioc\R\bin\R.exe CMD check --no-multiarch --install=check:karyoploteR.install-out.txt --library=E:\biocbuild\bbs-3.21-bioc\R\library --no-vignettes --timings karyoploteR_1.33.0.tar.gz StartedAt: 2025-01-22 02:22:04 -0500 (Wed, 22 Jan 2025) EndedAt: 2025-01-22 02:34:52 -0500 (Wed, 22 Jan 2025) EllapsedTime: 767.4 seconds RetCode: 0 Status: OK CheckDir: karyoploteR.Rcheck Warnings: 0