Package: karyoploteR Version: 1.33.0 Command: E:\biocbuild\bbs-3.21-bioc\R\bin\R.exe CMD INSTALL karyoploteR StartedAt: 2025-02-03 16:53:59 -0500 (Mon, 03 Feb 2025) EndedAt: 2025-02-03 16:55:16 -0500 (Mon, 03 Feb 2025) EllapsedTime: 76.3 seconds RetCode: 0 Status: OK