Package: kissDE Version: 1.27.0 Command: /Library/Frameworks/R.framework/Resources/bin/R CMD build --keep-empty-dirs --no-resave-data kissDE StartedAt: 2025-02-09 16:45:22 -0500 (Sun, 09 Feb 2025) EndedAt: 2025-02-09 16:46:11 -0500 (Sun, 09 Feb 2025) EllapsedTime: 48.6 seconds RetCode: 0 Status: OK PackageFile: kissDE_1.27.0.tar.gz PackageFileSize: 855 KiB