Package: kissDE Version: 1.27.0 Command: /Library/Frameworks/R.framework/Resources/bin/R CMD INSTALL kissDE StartedAt: 2025-02-09 15:28:48 -0500 (Sun, 09 Feb 2025) EndedAt: 2025-02-09 15:29:06 -0500 (Sun, 09 Feb 2025) EllapsedTime: 17.5 seconds RetCode: 0 Status: OK