Package: kissDE Version: 1.27.0 Command: rm -rf kissDE.buildbin-libdir && mkdir kissDE.buildbin-libdir && /Users/biocbuild/BBS/utils/build-universal.sh kissDE_1.27.0.tar.gz /Library/Frameworks/R.framework/Resources/bin/R kissDE.buildbin-libdir StartedAt: 2025-02-13 00:42:55 -0500 (Thu, 13 Feb 2025) EndedAt: 2025-02-13 00:43:55 -0500 (Thu, 13 Feb 2025) EllapsedTime: 59.4 seconds RetCode: 0 Status: OK PackageFile: kissDE_1.27.0.tgz PackageFileSize: 774.3 KiB