Package: kissDE Version: 1.27.0 Command: /Library/Frameworks/R.framework/Resources/bin/R CMD check --install=check:kissDE.install-out.txt --library=/Library/Frameworks/R.framework/Resources/library --no-vignettes --timings kissDE_1.27.0.tar.gz StartedAt: 2025-02-09 21:32:11 -0500 (Sun, 09 Feb 2025) EndedAt: 2025-02-09 21:39:52 -0500 (Sun, 09 Feb 2025) EllapsedTime: 460.6 seconds RetCode: 0 Status: OK CheckDir: kissDE.Rcheck Warnings: 0