Package: kissDE Version: 1.27.0 Command: /home/biocbuild/bbs-3.21-bioc/R/bin/R CMD build --keep-empty-dirs --no-resave-data kissDE StartedAt: 2025-02-12 17:47:29 -0500 (Wed, 12 Feb 2025) EndedAt: 2025-02-12 17:49:24 -0500 (Wed, 12 Feb 2025) EllapsedTime: 115.2 seconds RetCode: 0 Status: OK PackageFile: kissDE_1.27.0.tar.gz PackageFileSize: 855.1 KiB