Package: kissDE Version: 1.27.0 Command: rm -rf kissDE.buildbin-libdir && mkdir kissDE.buildbin-libdir && E:\biocbuild\bbs-3.21-bioc\R\bin\R.exe CMD INSTALL --build --library=kissDE.buildbin-libdir kissDE_1.27.0.tar.gz StartedAt: 2025-02-10 08:01:12 -0500 (Mon, 10 Feb 2025) EndedAt: 2025-02-10 08:02:07 -0500 (Mon, 10 Feb 2025) EllapsedTime: 55.9 seconds RetCode: 0 Status: OK PackageFile: kissDE_1.27.0.zip PackageFileSize: 777.3 KiB