Package: kissDE Version: 1.27.0 Command: chmod a+r kissDE -R && E:\biocbuild\bbs-3.21-bioc\R\bin\R.exe CMD build --keep-empty-dirs --no-resave-data kissDE StartedAt: 2025-02-09 19:31:30 -0500 (Sun, 09 Feb 2025) EndedAt: 2025-02-09 19:33:52 -0500 (Sun, 09 Feb 2025) EllapsedTime: 142.3 seconds RetCode: 0 Status: OK PackageFile: kissDE_1.27.0.tar.gz PackageFileSize: 860.8 KiB