Package: kissDE Version: 1.27.0 Command: E:\biocbuild\bbs-3.21-bioc\R\bin\R.exe CMD INSTALL kissDE StartedAt: 2025-02-12 16:59:52 -0500 (Wed, 12 Feb 2025) EndedAt: 2025-02-12 17:00:53 -0500 (Wed, 12 Feb 2025) EllapsedTime: 60.3 seconds RetCode: 0 Status: OK