Package: knowYourCG Version: 1.3.15 Command: /Library/Frameworks/R.framework/Resources/bin/R CMD check --install=check:knowYourCG.install-out.txt --library=/Library/Frameworks/R.framework/Resources/library --no-vignettes --timings knowYourCG_1.3.15.tar.gz StartedAt: 2025-02-09 19:50:11 -0500 (Sun, 09 Feb 2025) EndedAt: 2025-02-09 19:51:58 -0500 (Sun, 09 Feb 2025) EllapsedTime: 106.4 seconds RetCode: 0 Status: OK CheckDir: knowYourCG.Rcheck Warnings: 0