Package: knowYourCG Version: 1.3.15 Command: chmod a+r knowYourCG -R && E:\biocbuild\bbs-3.21-bioc\R\bin\R.exe CMD build --keep-empty-dirs --no-resave-data knowYourCG StartedAt: 2025-02-09 19:31:42 -0500 (Sun, 09 Feb 2025) EndedAt: 2025-02-09 19:35:10 -0500 (Sun, 09 Feb 2025) EllapsedTime: 208.2 seconds RetCode: 0 Status: OK PackageFile: knowYourCG_1.3.15.tar.gz PackageFileSize: 14.41 MiB