Package: knowYourCG Version: 1.3.15 Command: E:\biocbuild\bbs-3.21-bioc\R\bin\R.exe CMD check --no-multiarch --install=check:knowYourCG.install-out.txt --library=E:\biocbuild\bbs-3.21-bioc\R\library --no-vignettes --timings knowYourCG_1.3.15.tar.gz StartedAt: 2025-02-10 02:20:57 -0500 (Mon, 10 Feb 2025) EndedAt: 2025-02-10 02:27:55 -0500 (Mon, 10 Feb 2025) EllapsedTime: 418.4 seconds RetCode: 0 Status: OK CheckDir: knowYourCG.Rcheck Warnings: 0