Package: knowYourCG Version: 1.3.15 Command: E:\biocbuild\bbs-3.21-bioc\R\bin\R.exe CMD INSTALL knowYourCG StartedAt: 2025-02-09 15:49:18 -0500 (Sun, 09 Feb 2025) EndedAt: 2025-02-09 15:50:02 -0500 (Sun, 09 Feb 2025) EllapsedTime: 44.4 seconds RetCode: 0 Status: OK