Package: lemur Version: 1.5.0 Command: rm -rf lemur.buildbin-libdir && mkdir lemur.buildbin-libdir && /Users/biocbuild/BBS/utils/build-universal.sh lemur_1.5.0.tar.gz /Library/Frameworks/R.framework/Resources/bin/R lemur.buildbin-libdir StartedAt: 2025-02-03 22:54:56 -0500 (Mon, 03 Feb 2025) EndedAt: 2025-02-03 22:55:11 -0500 (Mon, 03 Feb 2025) EllapsedTime: 15.4 seconds RetCode: 0 Status: OK PackageFile: lemur_1.5.0.tgz PackageFileSize: 3.833 MiB