Package: lemur Version: 1.5.0 Command: /Library/Frameworks/R.framework/Resources/bin/R CMD build --keep-empty-dirs --no-resave-data lemur StartedAt: 2025-02-03 17:22:14 -0500 (Mon, 03 Feb 2025) EndedAt: 2025-02-03 17:22:55 -0500 (Mon, 03 Feb 2025) EllapsedTime: 40.5 seconds RetCode: 0 Status: OK PackageFile: lemur_1.5.0.tar.gz PackageFileSize: 3.529 MiB