Package: lemur Version: 1.5.0 Command: /Library/Frameworks/R.framework/Resources/bin/R CMD INSTALL lemur StartedAt: 2025-02-03 15:40:57 -0500 (Mon, 03 Feb 2025) EndedAt: 2025-02-03 15:41:12 -0500 (Mon, 03 Feb 2025) EllapsedTime: 14.9 seconds RetCode: 0 Status: OK