Package: lemur Version: 1.5.0 Command: rm -rf lemur.buildbin-libdir && mkdir lemur.buildbin-libdir && /Users/biocbuild/BBS/utils/build-universal.sh lemur_1.5.0.tar.gz /Library/Frameworks/R.framework/Resources/bin/R lemur.buildbin-libdir StartedAt: 2025-02-04 00:40:33 -0500 (Tue, 04 Feb 2025) EndedAt: 2025-02-04 00:41:27 -0500 (Tue, 04 Feb 2025) EllapsedTime: 54.5 seconds RetCode: 0 Status: OK PackageFile: lemur_1.5.0.tgz PackageFileSize: 3.836 MiB