Package: lemur Version: 1.5.0 Command: /Library/Frameworks/R.framework/Resources/bin/R CMD check --install=check:lemur.install-out.txt --library=/Library/Frameworks/R.framework/Resources/library --no-vignettes --timings lemur_1.5.0.tar.gz StartedAt: 2025-02-03 21:20:55 -0500 (Mon, 03 Feb 2025) EndedAt: 2025-02-03 21:26:04 -0500 (Mon, 03 Feb 2025) EllapsedTime: 309.4 seconds RetCode: 0 Status: WARNINGS CheckDir: lemur.Rcheck Warnings: 1